Workbook

Sheet Баланс
A1: Бухгалтерский баланс
A3: Статья | B3: Код | C3: На 1 января позапрошлого года, тыс. руб. | D3: На 1 января прошлого года, тыс. руб. | E3: На 1 января отчетного года, тыс. руб.
A4: АКТИВ
A5: I. Внеоборотные активы
A6: Нематериальные активы | B6: 1110 | C6: 1238 | D6: 1389 | E6: 1408
A7: Результаты исследований и разработок | B7: 1120 | C7: 0 | D7: 0 | E7: 0
A8: Нематериальные поисковые активы | B8: 1130 | C8: 0 | D8: 0 | E8: 0
A9: Материальные поисковые активы | B9: 1140 | C9: 0 | D9: 0 | E9: 0
A10: Основные средства | B10: 1150 | C10: 1217411 | D10: 1715877 | E10: 2264900
A11: Доходные вложения в материальные ценности | B11: 1160 | C11: 0 | D11: 0 | E11: 0
A12: Финансовые вложения | B12: 1170 | C12: 157210 | D12: 134864 | E12: 64589
A13: Отложенные налоговые активы | B13: 1180 | C13: 0 | D13: 0 | E13: 0
A14: Прочие внеоборотные активы | B14: 1190 | C14: 0 | D14: 0 | E14: 0
A15: Итого по разделу I | B15: 1100 | C15: =SUM(C6:C14) -> 1375859 | D15: =SUM(D6:D14) -> 1852130 | E15: =SUM(E6:E14) -> 2330897
A16: II. Оборотные активы
A17: Запасы, в том числе: | B17: 1210 | C17: =SUM(C18:C22) -> 528869 | D17: =SUM(D18:D22) -> 797920 | E17: =SUM(E18:E22) -> 1084522
A18: – материалы | C18: 50343 | D18: 66680 | E18: 120826
A19: – товары | C19: 765 | D19: 425 | E19: 1386
A20: – готовая продукция | C20: 5069 | D20: 3756 | E20: 7184
A21: – полуфабрикаты собственного производства | C21: 2120 | D21: 6888 | E21: 3603
A22: – обслуживающие производства и хозяйства | C22: 470572 | D22: 720171 | E22: 951523
A23: НДС по приобретенным ценностям | B23: 1220 | C23: 24563 | D23: 25810 | E23: 46016
A24: Дебиторская задолженность | B24: 1230 | C24: 320687 | D24: 272719 | E24: 454967
A25: Финансовые вложения (за исключением денежных эквивалентов) | B25: 1240 | C25: 0 | D25: 0 | E25: 29230
A26: Денежные средства и денежные эквиваленты | B26: 1250 | C26: 18347 | D26: 2989 | E26: 7746
A27: Прочие оборотные активы | B27: 1260 | C27: 4972 | D27: 5814 | E27: 27583
A28: Итого по разделу II | B28: 1200 | C28: =SUM(C17,C23:C27) -> 897438 | D28: =SUM(D17,D23:D27) -> 1105252 | E28: =SUM(E17,E23:E27) -> 1650064
A29: БАЛАНС | B29: 1600 | C29: =SUM(C15,C28) -> 2273297 | D29: =SUM(D15,D28) -> 2957382 | E29: =SUM(E15,E28) -> 3980961
A30: ПАССИВ
A31: III. Капитал и резервы
A32: Уставный капитал | B32: 1310 | C32: 164798 | D32: 164798 | E32: 164798
A33: Собственные акции, выкупленные у акционеров | B33: 1320 | C33: 0 | D33: 0 | E33: 0
A34: Переоценка внеоборотных активов | B34: 1340 | C34: 252161 | D34: 252161 | E34: 252161
A35: Добавочный капитал (без переоценки) | B35: 1350 | C35: 55989 | D35: 55989 | E35: 55989
A36: Резервный капитал | B36: 1360 | C36: 11974 | D36: 11974 | E36: 11974
A37: Нераспределенная прибыль (непокрытый убыток) | B37: 1370 | C37: 127243 | D37: 163651 | E37: 302837
A38: Итого по разделу III | B38: 1300 | C38: =SUM(C32:C37) -> 612165 | D38: 648572 | E38: 787758
A39: IV. Долгосрочные обязательства
A40: Заемные средства | B40: 1410 | C40: 776374 | D40: 1280714 | E40: 1888143
A41: Отложенные налоговые обязательства | B41: 1420 | C41: 0 | D41: 0 | E41: 0
...

Sheet ОФР
A1: Таблица 1. Отчет о финансовых результатах
A3: Статья | B3: Код | C3: Приод | F3: Изменение по периодам
C4: Позапрошлый год, тыс. руб. | D4: Прошлый год, тыс. руб. | E4: Отчетный год, тыс. руб. | F4: прошлый к позапрошлому, % | G4: отчетный к прошлому, %
A5: Выручка | B5: 2110 | C5: 1301712 | D5: 1376798 | E5: 1926269 | F5: =IF(ISERROR(D5/C5),"-",D5/C5*100-100) -> 5.7682498 | G5: =IF(ISERROR(E5/D5),"-",E5/D5*100-100) -> 39.90934
A6: Себестоимость продаж | B6: 2120 | C6: 1030656 | D6: 1089215 | E6: 1541307 | F6: =IF(ISERROR(D6/C6),"-",D6/C6*100-100) -> 5.6817212 | G6: =IF(ISERROR(E6/D6),"-",E6/D6*100-100) -> 41.506222
A7: Валовая прибыль (убыток) | B7: 2100 | C7: =SUM(C5,-C6) -> 271056 | D7: =SUM(D5,-D6) -> 287583 | E7: =SUM(E5,-E6) -> 384962 | F7: =IF(ISERROR(D7/C7),"-",D7/C7*100-100) -> 6.097264 | G7: =IF(ISERROR(E7/D7),"-",E7/D7*100-100) -> 33.861181
A8: Коммерческие расходы | B8: 2210 | C8: 82434 | D8: 119970 | E8: 133189 | F8: =IF(ISERROR(D8/C8),"-",D8/C8*100-100) -> 45.53461 | G8: =IF(ISERROR(E8/D8),"-",E8/D8*100-100) -> 11.018588
A9: Управленческие расходы | B9: 2220 | C9: 57110 | D9: 69461 | E9: 88106 | F9: =IF(ISERROR(D9/C9),"-",D9/C9*100-100) -> 21.626685 | G9: =IF(ISERROR(E9/D9),"-",E9/D9*100-100) -> 26.842401
A10: Прибыль (убыток) от продаж (EBIT) | B10: 2200 | C10: =C7-SUM(C8:C9) -> 131512 | D10: =D7-SUM(D8:D9) -> 98152 | E10: =E7-SUM(E8:E9) -> 163667 | F10: =IF(ISERROR(D10/C10),"-",D10/C10*100-100) -> -25.366506 | G10: =IF(ISERROR(E10/D10),"-",E10/D10*100-100) -> 66.748513
A11: Доходы от участия в других организациях | B11: 2310 | C11: 0 | D11: 0 | E11: 0 | F11: =IF(ISERROR(D11/C11),"-",D11/C11*100-100) -> - | G11: =IF(ISERROR(E11/D11),"-",E11/D11*100-100) -> -
A12: Проценты к получению | B12: 2320 | C12: 2.16 | D12: 2.16 | E12: 18 | F12: =IF(ISERROR(D12/C12),"-",D12/C12*100-100) -> 0 | G12: =IF(ISERROR(E12/D12),"-",E12/D12*100-100) -> 733.33333
A13: Проценты к уплате | B13: 2330 | C13: 145763 | D13: 196876 | E13: 210521 | F13: =IF(ISERROR(D13/C13),"-",D13/C13*100-100) -> 35.065826 | G13: =IF(ISERROR(E13/D13),"-",E13/D13*100-100) -> 6.9307584
A14: Прочие доходы | B14: 2340 | C14: 173607 | D14: 252129 | E14: 375067 | F14: =IF(ISERROR(D14/C14),"-",D14/C14*100-100) -> 45.229743 | G14: =IF(ISERROR(E14/D14),"-",E14/D14*100-100) -> 48.75996
A15: Прочие расходы | B15: 2350 | C15: 49612 | D15: 115919 | E15: 182935 | F15: =IF(ISERROR(D15/C15),"-",D15/C15*100-100) -> 133.65113 | G15: =IF(ISERROR(E15/D15),"-",E15/D15*100-100) -> 57.812783
A16: Прибыль (убыток) до налогообложения | B16: 2300 | C16: =SUM(C10,C11:C12,-C13,C14,-C15) -> 109746.16 | D16: =SUM(D10,D11:D12,-D13,D14,-D15) -> 37488.16 | E16: =SUM(E10,E11:E12,-E13,E14,-E15) -> 145296 | F16: =IF(ISERROR(D16/C16),"-",D16/C16*100-100) -> -65.841028 | G16: =IF(ISERROR(E16/D16),"-",E16/D16*100-100) -> 287.57837
A17: Налог на прибыль | B17: 2410 | C17: =SUM(C18:C19) -> 6584 | D17: =SUM(D18:D19) -> 819 | E17: =SUM(E18:E19) -> 7200 | F17: =IF(ISERROR(D17/C17),"-",D17/C17*100-100) -> -87.560753 | G17: =IF(ISERROR(E17/D17),"-",E17/D17*100-100) -> 779.12088
A18: в т.ч. текущий налог на прибыль | B18: 2411 | C18: 6584 | D18: 819 | E18: 7200 | F18: =IF(ISERROR(D18/C18),"-",D18/C18*100-100) -> -87.560753 | G18: =IF(ISERROR(E18/D18),"-",E18/D18*100-100) -> 779.12088
A19: отложенный налог на прибыль | B19: 2412 | C19: 0 | D19: 0 | E19: 0 | F19: =IF(ISERROR(D19/C19),"-",D19/C19*100-100) -> - | G19: =IF(ISERROR(E19/D19),"-",E19/D19*100-100) -> -
A20: Прочее | B20: 2460 | C20: 1259 | D20: 1.44 | E20: 915 | F20: =IF(ISERROR(D20/C20),"-",D20/C20*100-100) -> -99.885624 | G20: =IF(ISERROR(E20/D20),"-",E20/D20*100-100) -> 63441.667
A21: Чистая прибыль (убыток) отчетного периода | B21: 2400 | C21: =C16-C17-C20 -> 101903.16 | D21: =D16-D17-D20 -> 36667.72 | E21: =E16-E17-E20 -> 137181 | F21: =IF(ISERROR(D21/C21),"-",D21/C21*100-100) -> -64.017092 | G21: =IF(ISERROR(E21/D21),"-",E21/D21*100-100) -> 274.11925
A23: Коэффициент рентабельности продаж | C23: =C21/C5 -> 0.078283952 | D23: =D21/D5 -> 0.026632607 | E23: =E21/E5 -> 0.07121591 | F23: - | G23: -
A24: Коэффициент покрытия процентов | C24: =C10/C13 -> 0.9022317 | D24: =D10/D13 -> 0.49854731 | E24: =E10/E13 -> 0.77743788 | F24: - | G24: -

Sheet Результаты
B1: Расчет показателей для экспресс-диагностики финансового состояния компании
B3: Показатели | C3: Ед. изм. | D3: Анализируемый период
D4: позапрошлый, тыс. руб. | E4: прошлый, тыс. руб. | F4: отчетный, тыс. руб.
B5: ЛИКВИДНОСТЬ
B6: Коэффициент общей ликвидности | C6: ед. | D6: =Баланс!C28/Баланс!C51 -> 1.0143316 | E6: =Баланс!D28/Баланс!D51 -> 1.0750475 | F6: =Баланс!E28/Баланс!E51 -> 1.2643587
B7: Коэффициент абсолютной ликвидности | C7: ед. | D7: =(Баланс!C26+Баланс!C25)/Баланс!C51 -> 0.020736744 | E7: =(Баланс!D26+Баланс!D25)/Баланс!D51 -> 0.002907316 | F7: =(Баланс!E26+Баланс!E25)/Баланс!E51 -> 0.028332797
B8: Чистый оборотный капитал | C8: тыс. руб. | D8: =Баланс!C28-Баланс!C51 -> 12680 | E8: =Баланс!D28-Баланс!D51 -> 77156 | F8: =Баланс!E28-Баланс!E51 -> 345004
B10: ОБОРАЧИВАЕМОСТЬ
B11: Период оборота запасов* | C11: дн. | D11: =(Баланс!C17-Баланс!C22)/ОФР!C6*365 -> 20.645497 | E11: =(Баланс!D17-Баланс!D22)/ОФР!D6*365 -> 26.053979 | F11: =(Баланс!E17-Баланс!E22)/ОФР!E6*365 -> 31.49576
B12: Период оборота дебиторской задолженности | C12: дн. | D12: =Баланс!C24/ОФР!C5*365 -> 89.920624 | E12: =Баланс!D24/ОФР!D5*365 -> 72.299956 | F12: =Баланс!E24/ОФР!E5*365 -> 86.209639
B13: Период оборота кредиторской задолженности | C13: дн. | D13: =Баланс!C47/ОФР!C6*365 -> 96.643604 | E13: =Баланс!D47/ОФР!D6*365 -> 123.56916 | F13: =Баланс!E47/ОФР!E6*365 -> 98.841068
B15: ФИНАНСОВАЯ УСТОЙЧИВОСТЬ
B16: Коэффициент автономии | C16: ед. | D16: =Баланс!C38/(Баланс!C44+Баланс!C51) -> 0.36852279 | E16: =Баланс!D38/(Баланс!D44+Баланс!D51) -> 0.28091181 | F16: =Баланс!E38/(Баланс!E44+Баланс!E51) -> 0.24669838
B17: Доля долгосрочных кредитов в валюте баланса | C17: % | D17: =Баланс!C44/Баланс!C29*100 -> 34.151895 | E17: =Баланс!D44/Баланс!D29*100 -> 43.305667 | F17: =Баланс!E44/Баланс!E29*100 -> 47.429327
B18: Долгосрочные обязательства к внеоборотным активам | C18: % | D18: =Баланс!C44/Баланс!C15*100 -> 56.428311 | E18: =Баланс!D44/Баланс!D15*100 -> 69.14817 | F18: =Баланс!E44/Баланс!E15*100 -> 81.004995
B20: РЕНТАБЕЛЬНОСТЬ
B21: Рентабельность активов | C21: % | D21: =ОФР!C21/Баланс!C29*100 -> 4.4826153 | E21: =ОФР!D21/Баланс!D29*100 -> 1.2398709 | F21: =ОФР!E21/Баланс!E29*100 -> 3.4459267
B22: Рентабельность собственного капитала | C22: % | D22: =ОФР!C21/Баланс!C38*100 -> 16.646355 | E22: =ОФР!D21/Баланс!D38*100 -> 5.6536082 | F22: =ОФР!E21/Баланс!E38*100 -> 17.414104
B23: Финансовый рычаг | C23: ед. | D23: =(Баланс!C44+Баланс!C51)/Баланс!C38 -> 2.7135364 | E23: =(Баланс!D44+Баланс!D51)/Баланс!D38 -> 3.5598361 | F23: =(Баланс!E44+Баланс!E51)/Баланс!E38 -> 4.0535329
B25: * В расчете не рассматриваются обслуживающие производства
